BEGIN:VCALENDAR
VERSION:2.0
PRODID:icalendar-ruby
CALSCALE:GREGORIAN
METHOD:PUBLISH
BEGIN:VEVENT
DTSTAMP:20260422T164855Z
UID:23-2281049@cornerstonego.com
DTSTART:20260320T230000Z
DTEND:20260321T010000Z
CLASS:PUBLIC
CREATED:20260422T124755
DESCRIPTION:
LAST-MODIFIED:20260422T124755
LOCATION:Cornerstone
SUMMARY:College and Career Group
URL;VALUE=URI:https://www.cornerstonego.com/events/college-and-career-group
 /2026-03-20
ATTACH;FILENAME=20210702_195249.jpg;FMTTYPE=image/jpeg:https://dq5pwpg1q8ru
 0.cloudfront.net/2022/01/27/08/29/41/5fa9f7f2-38be-405d-a1f0-923e6cb5ccf0/
 20210702_195249.jpg
END:VEVENT
END:VCALENDAR
